BEGIN:VCALENDAR
VERSION:2.0
PRODID:spatie/icalendar-generator
DESCRIPTION:Évènements de DL2i Formation
X-WR-CALDESC:Évènements de DL2i Formation
REFRESH-INTERVAL;VALUE=DURATION:PT1440M
X-PUBLISHED-TTL:PT1440M
BEGIN:VTIMEZONE
TZID:Europe/Paris
BEGIN:STANDARD
DTSTART:20241027T030000Z
TZOFFSETFROM:+0200
TZOFFSETTO:+0100
END:STANDARD
BEGIN:DAYLIGHT
DTSTART:20250330T020000Z
TZOFFSETFROM:+0100
TZOFFSETTO:+0200
END:DAYLIGHT
BEGIN:STANDARD
DTSTART:20251026T030000Z
TZOFFSETFROM:+0200
TZOFFSETTO:+0100
END:STANDARD
END:VTIMEZONE
BEGIN:VTIMEZONE
TZID:UTC
BEGIN:STANDARD
DTSTART:20250724T044958Z
TZOFFSETFROM:+0000
TZOFFSETTO:+0000
END:STANDARD
END:VTIMEZONE
BEGIN:VEVENT
UID:137-129
DTSTAMP:20260420T044958Z
SUMMARY:Indisponible - S_2025_032
LOCATION:
ORGANIZER;CN=admin4479:MAILTO:didier.lagoutte@outlook.fr
DTSTART;TZID=Europe/Paris;VALUE=DATE:20250620
DTEND;TZID=Europe/Paris;VALUE=DATE:20250621
X-ALT-DESC;FMTTYPE=TEXT/HTML:
CATEGORIES:Formations
URL;VALUE=URI:https://dl2i.com/index.php/mc-events/indisponible-s_2025_032-
 7/?mc_id=137
END:VEVENT
END:VCALENDAR