BEGIN:VCALENDAR
VERSION:2.0
PRODID:spatie/icalendar-generator
DESCRIPTION:Évènements de DL2i Formation
X-WR-CALDESC:Évènements de DL2i Formation
REFRESH-INTERVAL;VALUE=DURATION:PT1440M
X-PUBLISHED-TTL:PT1440M
BEGIN:VTIMEZONE
TZID:Europe/Paris
BEGIN:STANDARD
DTSTART:20251026T030000Z
TZOFFSETFROM:+0200
TZOFFSETTO:+0100
END:STANDARD
BEGIN:DAYLIGHT
DTSTART:20260329T020000Z
TZOFFSETFROM:+0100
TZOFFSETTO:+0200
END:DAYLIGHT
END:VTIMEZONE
BEGIN:VTIMEZONE
TZID:UTC
BEGIN:STANDARD
DTSTART:20250723T214238Z
TZOFFSETFROM:+0000
TZOFFSETTO:+0000
END:STANDARD
END:VTIMEZONE
BEGIN:VEVENT
UID:161-152
DTSTAMP:20260419T214238Z
SUMMARY:...
LOCATION:
ORGANIZER;CN=admin4479:MAILTO:didier.lagoutte@outlook.fr
DTSTART;TZID=Europe/Paris;VALUE=DATE:20260101
DTEND;TZID=Europe/Paris;VALUE=DATE:20260105
X-ALT-DESC;FMTTYPE=TEXT/HTML:
CATEGORIES:Week-end et jours feriés
URL;VALUE=URI:https://dl2i.com/index.php/mc-events/277/?mc_id=161
END:VEVENT
END:VCALENDAR