BEGIN:VCALENDAR
VERSION:2.0
PRODID:spatie/icalendar-generator
DESCRIPTION:Évènements de DL2i Formation
X-WR-CALDESC:Évènements de DL2i Formation
REFRESH-INTERVAL;VALUE=DURATION:PT1440M
X-PUBLISHED-TTL:PT1440M
BEGIN:VTIMEZONE
TZID:Europe/Paris
BEGIN:DAYLIGHT
DTSTART:20260329T020000Z
TZOFFSETFROM:+0100
TZOFFSETTO:+0200
END:DAYLIGHT
BEGIN:STANDARD
DTSTART:20261025T030000Z
TZOFFSETFROM:+0200
TZOFFSETTO:+0100
END:STANDARD
BEGIN:DAYLIGHT
DTSTART:20270328T020000Z
TZOFFSETFROM:+0100
TZOFFSETTO:+0200
END:DAYLIGHT
END:VTIMEZONE
BEGIN:VTIMEZONE
TZID:UTC
BEGIN:STANDARD
DTSTART:20250724T031548Z
TZOFFSETFROM:+0000
TZOFFSETTO:+0000
END:STANDARD
END:VTIMEZONE
BEGIN:VEVENT
UID:225-214
DTSTAMP:20260420T031548Z
SUMMARY:Indisponible S_2025_056
LOCATION:
ORGANIZER;CN=admin4479:MAILTO:didier.lagoutte@outlook.fr
DTSTART;TZID=Europe/Paris;VALUE=DATE:20261119
DTEND;TZID=Europe/Paris;VALUE=DATE:20261121
X-ALT-DESC;FMTTYPE=TEXT/HTML:
CATEGORIES:Formations
URL;VALUE=URI:https://dl2i.com/index.php/mc-events/indisponible-s_2025_056/
 ?mc_id=225
END:VEVENT
END:VCALENDAR